BEGIN:VCALENDAR
VERSION:2.0
PRODID:-//Fota House - ECPv6.15.18//NONSGML v1.0//EN
CALSCALE:GREGORIAN
METHOD:PUBLISH
X-WR-CALNAME:Fota House
X-ORIGINAL-URL:https://fotahouse.com
X-WR-CALDESC:Events for Fota House
REFRESH-INTERVAL;VALUE=DURATION:PT1H
X-Robots-Tag:noindex
X-PUBLISHED-TTL:PT1H
BEGIN:VTIMEZONE
TZID:Europe/Dublin
BEGIN:STANDARD
TZOFFSETFROM:+0000
TZOFFSETTO:+0100
TZNAME:IST
DTSTART:20250330T010000
END:STANDARD
BEGIN:DAYLIGHT
TZOFFSETFROM:+0100
TZOFFSETTO:+0000
TZNAME:GMT
DTSTART:20251026T010000
END:DAYLIGHT
BEGIN:STANDARD
TZOFFSETFROM:+0000
TZOFFSETTO:+0100
TZNAME:IST
DTSTART:20260329T010000
END:STANDARD
BEGIN:DAYLIGHT
TZOFFSETFROM:+0100
TZOFFSETTO:+0000
TZNAME:GMT
DTSTART:20261025T010000
END:DAYLIGHT
BEGIN:STANDARD
TZOFFSETFROM:+0000
TZOFFSETTO:+0100
TZNAME:IST
DTSTART:20270328T010000
END:STANDARD
BEGIN:DAYLIGHT
TZOFFSETFROM:+0100
TZOFFSETTO:+0000
TZNAME:GMT
DTSTART:20271031T010000
END:DAYLIGHT
END:VTIMEZONE
BEGIN:VEVENT
DTSTART;TZID=Europe/Dublin:20260329T150000
DTEND;TZID=Europe/Dublin:20260329T163000
DTSTAMP:20260422T175536
CREATED:20260216T195336Z
LAST-MODIFIED:20260216T195336Z
UID:10804-1774796400-1774801800@fotahouse.com
SUMMARY:Vanburgh & Friends
DESCRIPTION:Vanbrugh & Friends made a welcome return back to Fota House for a special afternoon recital on Sunday\, March 29th at 3pm. Set within the elegant surroundings of one of Ireland’s finest historic homes\, this live classical music performance promises an unforgettable chamber music experience in Cork. \nThis highly anticipated recital will showcase three outstanding masterpieces from the string quintet repertoire\, performed by the acclaimed ensemble: \n\n\nWolfgang Amadeus Mozart – String Quintet in E-flat major\, K.614 \n\n\nJohannes Brahms – String Quintet in F major\, Op.88 \n\n\nFelix Mendelssohn – String Quintet in B-flat major\, Op.87 \n\n\nFrom Mozart’s refined elegance to Brahms’ rich romantic textures and Mendelssohn’s lyrical brilliance\, this carefully curated programme offers a beautifully balanced afternoon of chamber music for string quintet. \nJoin us at Fota House for an afternoon of live music in a stunning heritage setting.
URL:https://fotahouse.com/event/vanburgh-friends/
LOCATION:Fota House\, Arboretum & Gardens
ATTACH;FMTTYPE=image/jpeg:https://fotahouse.com/wp-content/uploads/sites/3/2026/02/Screenshot-2026-02-16-194157.jpg
END:VEVENT
END:VCALENDAR