BEGIN:VCALENDAR
VERSION:2.0
PRODID:-//Fota House - ECPv6.15.18//NONSGML v1.0//EN
CALSCALE:GREGORIAN
METHOD:PUBLISH
X-ORIGINAL-URL:https://fotahouse.com
X-WR-CALDESC:Events for Fota House
REFRESH-INTERVAL;VALUE=DURATION:PT1H
X-Robots-Tag:noindex
X-PUBLISHED-TTL:PT1H
BEGIN:VTIMEZONE
TZID:Europe/Dublin
BEGIN:STANDARD
TZOFFSETFROM:+0000
TZOFFSETTO:+0100
TZNAME:IST
DTSTART:20250330T010000
END:STANDARD
BEGIN:DAYLIGHT
TZOFFSETFROM:+0100
TZOFFSETTO:+0000
TZNAME:GMT
DTSTART:20251026T010000
END:DAYLIGHT
BEGIN:STANDARD
TZOFFSETFROM:+0000
TZOFFSETTO:+0100
TZNAME:IST
DTSTART:20260329T010000
END:STANDARD
BEGIN:DAYLIGHT
TZOFFSETFROM:+0100
TZOFFSETTO:+0000
TZNAME:GMT
DTSTART:20261025T010000
END:DAYLIGHT
BEGIN:STANDARD
TZOFFSETFROM:+0000
TZOFFSETTO:+0100
TZNAME:IST
DTSTART:20270328T010000
END:STANDARD
BEGIN:DAYLIGHT
TZOFFSETFROM:+0100
TZOFFSETTO:+0000
TZNAME:GMT
DTSTART:20271031T010000
END:DAYLIGHT
END:VTIMEZONE
BEGIN:VEVENT
DTSTART;TZID=Europe/Dublin:20260315T103000
DTEND;TZID=Europe/Dublin:20260315T133000
DTSTAMP:20260422T175416
CREATED:20260216T163934Z
LAST-MODIFIED:20260216T163934Z
UID:10798-1773570600-1773581400@fotahouse.com
SUMMARY:Mother's Day Workshop
DESCRIPTION:Celebrate Mother’s Day with a Creative Workshop at Fota House & Gardens\, Cork \nLooking for a meaningful Mother’s Day experience?. This intimate\, nurturing creative gathering at Fota House combines a calming tea ritual\, and a chance to create a personalized\, handmade gift she’ll treasure forever. \nTea Ritual: Begin with a soothing tea ceremony that invites you to the space in a meaningful way and encourages mindfulness and presence. Taste several varieties of tea\, explore tea culture\, and enjoy a moment of calm and connection in the stunning surroundings of Fota House. \nCreative Gift Making: Express your love through creativity! Using a variety of materials\, colors\, and textures\, you will design and make a one-of-a-kind gift box or card. All materials are provided and you do not need to have any prior experience. Bring along a small personal gift that would have special meaning to your loved one to enhance the experience\, though this is optional. \nDelicious Treats: Homemade cakes and chocolates will be served alongside the teas\, completing your sensory and creative experience. \nPerfect for: Mother and daughter bonding\, meaningful gifts\, and unique Mother’s Day activities in Cork. \nBooking Information: For bookings or more details\, please contact Jeni on 087 9143783. \nSpecial Offer: “Mum Time” offer available for all mums! \n 
URL:https://fotahouse.com/event/mothers-day-workshop/
ATTACH;FMTTYPE=image/jpeg:https://fotahouse.com/wp-content/uploads/sites/3/2026/02/Fill-workshops-1.jpg
END:VEVENT
END:VCALENDAR